BEGIN:VCALENDAR
VERSION:2.0
PRODID:-//Tukios.com/
BEGIN:VEVENT
UID:75cbb628-42d0-404d-97ad-ddb34b3f17c7@www.mjcoluccifuneralchapel.com
DTSTAMP:20260423T212959Z
DTSTART:20260425T160000Z
DTEND:20260425T180000Z
SUMMARY:Reception
DESCRIPTION:
URL:https://www.mjcoluccifuneralchapel.com/obituaries/cynthia-toth
LOCATION: 91 Cleveland Avenue  Buffalo NY 14222
GEO:42.9179742;-78.8722784
END:VEVENT
END:VCALENDAR