BEGIN:VCALENDAR
VERSION:2.0
PRODID:-//Tukios.com/
BEGIN:VEVENT
UID:74f5f112-3837-42b6-aec8-d8a4efd80aa1@www.mjcoluccifuneralchapel.com
DTSTAMP:20260424T161353Z
DTSTART:20260427T140000Z
DTEND:20260427T150000Z
SUMMARY:Funeral Service
DESCRIPTION:
URL:https://www.mjcoluccifuneralchapel.com/obituaries/dominic-p-strangio
LOCATION: 2100 Baseline Rd  Grand Island NY 14072
GEO:43.0181283;-78.9669568
END:VEVENT
END:VCALENDAR