BEGIN:VCALENDAR
VERSION:2.0
PRODID:-//Tukios.com/
BEGIN:VEVENT
UID:43dd4dee-8493-4cb6-8cb1-603fca836bf1@www.mjcoluccifuneralchapel.com
DTSTAMP:20260421T004009Z
DTSTART:20260423T131500Z
DTEND:20260423T141500Z
SUMMARY:Visitation
DESCRIPTION:
URL:https://www.mjcoluccifuneralchapel.com/obituaries/elmo-giammarco
LOCATION:M.J. Colucci & Son Niagara Funeral Chapel 2730 Military Rd  
	Niagara Falls NY 14304
GEO:43.1091801;-78.9872956
END:VEVENT
END:VCALENDAR