BEGIN:VCALENDAR
VERSION:2.0
PRODID:-//Tukios.com/
BEGIN:VEVENT
UID:9cf98084-80ac-41ab-9283-9ebaf952f616@www.mjcoluccifuneralchapel.com
DTSTAMP:20260421T004225Z
DTSTART:20260423T141500Z
DTEND:20260423T151500Z
SUMMARY:Prayer Service
DESCRIPTION:
URL:https://www.mjcoluccifuneralchapel.com/obituaries/elmo-giammarco
LOCATION: 2730 Military Rd  Niagara Falls NY 14304
GEO:43.1091801;-78.9872956
END:VEVENT
END:VCALENDAR