BEGIN:VCALENDAR
VERSION:2.0
PRODID:-//Tukios.com/
BEGIN:VEVENT
UID:c06f043a-4c48-4056-ad80-9d844bf9611e@www.mjcoluccifuneralchapel.com
DTSTAMP:20260421T004501Z
DTSTART:20260423T150000Z
DTEND:20260423T160000Z
SUMMARY:Burial
DESCRIPTION:
URL:https://www.mjcoluccifuneralchapel.com/obituaries/elmo-giammarco
LOCATION:St. Joseph’s Cemetery 3806 Pine Avenue  Niagara Falls NY 14301
GEO:43.0972404;-79.0182399
END:VEVENT
END:VCALENDAR