BEGIN:VCALENDAR
VERSION:2.0
PRODID:-//Tukios.com/
BEGIN:VEVENT
UID:e519f444-2012-41b2-8bce-fbbb61a3f1a6@www.mjcoluccifuneralchapel.com
DTSTAMP:20260423T000655Z
DTSTART:20260501T140000Z
DTEND:20260501T150000Z
SUMMARY:Mass
DESCRIPTION:
URL:https://www.mjcoluccifuneralchapel.com/obituaries/lawrence-bailey
LOCATION: 1055 Military Road  Niagara Falls NY 14304
GEO:43.0865966;-78.963381
END:VEVENT
END:VCALENDAR