BEGIN:VCALENDAR
VERSION:2.0
PRODID:-//Tukios.com/
BEGIN:VEVENT
UID:3dbac941-8588-4e8d-8cef-49beb2ad836f@www.mjcoluccifuneralchapel.com
DTSTAMP:20260421T224120Z
DTSTART:20260424T210000Z
DTEND:20260425T000000Z
SUMMARY:Visitation
DESCRIPTION:
URL:https://www.mjcoluccifuneralchapel.com/obituaries/lena-thornton
LOCATION:M.J. Colucci & Son Niagara Funeral Chapel 2730 Military Rd  
	Niagara Falls NY 14304
GEO:43.1091801;-78.9872956
END:VEVENT
END:VCALENDAR