BEGIN:VCALENDAR
VERSION:2.0
PRODID:-//Tukios.com/
BEGIN:VEVENT
UID:f0adf6d5-6292-4b16-94b4-9226c328323d@www.mjcoluccifuneralchapel.com
DTSTAMP:20260421T223812Z
DTSTART:20260425T150000Z
DTEND:20260425T160000Z
SUMMARY:Visitation
DESCRIPTION:
URL:https://www.mjcoluccifuneralchapel.com/obituaries/lena-thornton
LOCATION:New Jerusalem Revival Center 2723 20th Street  Niagara Falls NY 
	14305
GEO:43.1134725;-79.0378762
END:VEVENT
END:VCALENDAR