BEGIN:VCALENDAR
VERSION:2.0
PRODID:-//Tukios.com/
BEGIN:VEVENT
UID:7f9feb62-c880-4a8a-a2cc-b5b99785508d@www.mjcoluccifuneralchapel.com
DTSTAMP:20260421T223619Z
DTSTART:20260425T160000Z
DTEND:20260425T170000Z
SUMMARY:Funeral Service
DESCRIPTION:
URL:https://www.mjcoluccifuneralchapel.com/obituaries/lena-thornton
LOCATION:New Jerusalem Revival Center 2723 20th Street  Niagara Falls NY 
	14305
GEO:43.1134725;-79.0378762
END:VEVENT
END:VCALENDAR